BEGIN:VCALENDAR
VERSION:2.0
PRODID:-//Káposztásmegyeri Református Gyülekezet - ECPv4.6.2//NONSGML v1.0//EN
CALSCALE:GREGORIAN
METHOD:PUBLISH
X-WR-CALNAME:Káposztásmegyeri Református Gyülekezet
X-ORIGINAL-URL:https://refkap.hu
X-WR-CALDESC:Events for Káposztásmegyeri Református Gyülekezet
BEGIN:VEVENT
DTSTART;TZID=UTC+0:20230409T100000
DTEND;TZID=UTC+0:20230409T100000
DTSTAMP:20260423T191441
CREATED:20230328T202856Z
LAST-MODIFIED:20230328T202856Z
UID:4618-1681034400-1681034400@refkap.hu
SUMMARY:Úrvacsorás istentisztelet és konfirmáció
DESCRIPTION:
URL:https://refkap.hu/event/urvacsoras-istentisztelet-es-konfirmacio/
END:VEVENT
END:VCALENDAR