BEGIN:VCALENDAR
VERSION:2.0
PRODID:-//Káposztásmegyeri Református Gyülekezet - ECPv4.6.2//NONSGML v1.0//EN
CALSCALE:GREGORIAN
METHOD:PUBLISH
X-WR-CALNAME:Káposztásmegyeri Református Gyülekezet
X-ORIGINAL-URL:https://refkap.hu
X-WR-CALDESC:Events for Káposztásmegyeri Református Gyülekezet
BEGIN:VEVENT
DTSTART;TZID=UTC+0:20230407T100000
DTEND;TZID=UTC+0:20230407T100000
DTSTAMP:20260423T140956
CREATED:20230328T202811Z
LAST-MODIFIED:20230328T202811Z
UID:4616-1680861600-1680861600@refkap.hu
SUMMARY:Úrvacsorás istentisztelet
DESCRIPTION:
URL:https://refkap.hu/event/urvacsoras-istentisztelet-34/
END:VEVENT
END:VCALENDAR