BEGIN:VCALENDAR
VERSION:2.0
PRODID:-//Káposztásmegyeri Református Gyülekezet - ECPv4.6.2//NONSGML v1.0//EN
CALSCALE:GREGORIAN
METHOD:PUBLISH
X-WR-CALNAME:Káposztásmegyeri Református Gyülekezet
X-ORIGINAL-URL:https://refkap.hu
X-WR-CALDESC:Events for Káposztásmegyeri Református Gyülekezet
BEGIN:VEVENT
DTSTART;TZID=UTC+0:20230404T180000
DTEND;TZID=UTC+0:20230404T180000
DTSTAMP:20260423T092835
CREATED:20230328T202609Z
LAST-MODIFIED:20230328T202609Z
UID:4612-1680631200-1680631200@refkap.hu
SUMMARY:Tábortűz - énekes dicsőítő est
DESCRIPTION:Egy óra éneklés Istennek. \n
URL:https://refkap.hu/event/tabortuz-enekes-dicsoito-est/
END:VEVENT
END:VCALENDAR