BEGIN:VCALENDAR
VERSION:2.0
PRODID:-//Káposztásmegyeri Református Gyülekezet - ECPv4.6.2//NONSGML v1.0//EN
CALSCALE:GREGORIAN
METHOD:PUBLISH
X-WR-CALNAME:Káposztásmegyeri Református Gyülekezet
X-ORIGINAL-URL:https://refkap.hu
X-WR-CALDESC:Events for Káposztásmegyeri Református Gyülekezet
BEGIN:VEVENT
DTSTART;TZID=UTC+0:20231010T180000
DTEND;TZID=UTC+0:20231010T180000
DTSTAMP:20260421T133254
CREATED:20231003T164903Z
LAST-MODIFIED:20231003T164903Z
UID:4979-1696960800-1696960800@refkap.hu
SUMMARY:Tábortűz – dicsőítő est
DESCRIPTION:
URL:https://refkap.hu/event/tabortuz-dicsoito-est-2/
END:VEVENT
END:VCALENDAR