BEGIN:VCALENDAR
VERSION:2.0
PRODID:-//Káposztásmegyeri Református Gyülekezet - ECPv4.6.2//NONSGML v1.0//EN
CALSCALE:GREGORIAN
METHOD:PUBLISH
X-WR-CALNAME:Káposztásmegyeri Református Gyülekezet
X-ORIGINAL-URL:https://refkap.hu
X-WR-CALDESC:Events for Káposztásmegyeri Református Gyülekezet
BEGIN:VEVENT
DTSTART;TZID=UTC+0:20250616T180000
DTEND;TZID=UTC+0:20250616T180000
DTSTAMP:20260422T022339
CREATED:20250605T133644Z
LAST-MODIFIED:20250605T133644Z
UID:6334-1750096800-1750096800@refkap.hu
SUMMARY:Tábortűz – dicsőítő est
DESCRIPTION:
URL:https://refkap.hu/event/tabortuz-dicsoito-est-17/
END:VEVENT
END:VCALENDAR