BEGIN:VCALENDAR
VERSION:2.0
PRODID:-//Káposztásmegyeri Református Gyülekezet - ECPv4.6.2//NONSGML v1.0//EN
CALSCALE:GREGORIAN
METHOD:PUBLISH
X-WR-CALNAME:Káposztásmegyeri Református Gyülekezet
X-ORIGINAL-URL:https://refkap.hu
X-WR-CALDESC:Events for Káposztásmegyeri Református Gyülekezet
BEGIN:VEVENT
DTSTART;TZID=UTC+0:20250609T100000
DTEND;TZID=UTC+0:20250609T100000
DTSTAMP:20260421T232128
CREATED:20250503T142923Z
LAST-MODIFIED:20250505T074411Z
UID:6299-1749463200-1749463200@refkap.hu
SUMMARY:Pünkösdhétfői istentisztelet
DESCRIPTION:
URL:https://refkap.hu/event/punkosdhetfoi-istentisztelet-es-konfirmacio/
END:VEVENT
END:VCALENDAR