BEGIN:VCALENDAR
VERSION:2.0
PRODID:-//Káposztásmegyeri Református Gyülekezet - ECPv4.6.2//NONSGML v1.0//EN
CALSCALE:GREGORIAN
METHOD:PUBLISH
X-WR-CALNAME:Káposztásmegyeri Református Gyülekezet
X-ORIGINAL-URL:https://refkap.hu
X-WR-CALDESC:Events for Káposztásmegyeri Református Gyülekezet
BEGIN:VEVENT
DTSTART;TZID=UTC+0:20190426T190000
DTEND;TZID=UTC+0:20190426T190000
DTSTAMP:20260421T084209
CREATED:20190410T063353Z
LAST-MODIFIED:20190410T063353Z
UID:1433-1556305200-1556305200@refkap.hu
SUMMARY:Női kör
DESCRIPTION:Gondolatébresztés: Kránitzné Borbás Helga (Maci) \n
URL:https://refkap.hu/event/noi-kor-7/
END:VEVENT
END:VCALENDAR