BEGIN:VCALENDAR
VERSION:2.0
PRODID:-//Káposztásmegyeri Református Gyülekezet - ECPv4.6.2//NONSGML v1.0//EN
CALSCALE:GREGORIAN
METHOD:PUBLISH
X-WR-CALNAME:Káposztásmegyeri Református Gyülekezet
X-ORIGINAL-URL:https://refkap.hu
X-WR-CALDESC:Events for Káposztásmegyeri Református Gyülekezet
BEGIN:VEVENT
DTSTART;TZID=UTC+0:20250417T180000
DTEND;TZID=UTC+0:20250417T180000
DTSTAMP:20260421T114454
CREATED:20250331T180948Z
LAST-MODIFIED:20250331T180948Z
UID:6235-1744912800-1744912800@refkap.hu
SUMMARY:„Nagycsütörtöki lábmosás” úrvacsorai előkészítő
DESCRIPTION:
URL:https://refkap.hu/event/nagycsutortoki-labmosas-urvacsorai-elokeszito/
END:VEVENT
END:VCALENDAR