BEGIN:VCALENDAR
VERSION:2.0
PRODID:-//Káposztásmegyeri Református Gyülekezet - ECPv4.6.2//NONSGML v1.0//EN
CALSCALE:GREGORIAN
METHOD:PUBLISH
X-WR-CALNAME:Káposztásmegyeri Református Gyülekezet
X-ORIGINAL-URL:https://refkap.hu
X-WR-CALDESC:Events for Káposztásmegyeri Református Gyülekezet
BEGIN:VEVENT
DTSTART;TZID=UTC+1:20260402T090000
DTEND;TZID=UTC+1:20260402T090000
DTSTAMP:20260421T113946
CREATED:20260302T202956Z
LAST-MODIFIED:20260302T202956Z
UID:6725-1775120400-1775120400@refkap.hu
SUMMARY:Nagycsütörtöki gyereknap
DESCRIPTION:Bővebben itt található információ. \n
URL:https://refkap.hu/event/nagycsutortoki-gyereknap-2/
END:VEVENT
END:VCALENDAR