BEGIN:VCALENDAR
VERSION:2.0
PRODID:-//Káposztásmegyeri Református Gyülekezet - ECPv4.6.2//NONSGML v1.0//EN
CALSCALE:GREGORIAN
METHOD:PUBLISH
X-WR-CALNAME:Káposztásmegyeri Református Gyülekezet
X-ORIGINAL-URL:https://refkap.hu
X-WR-CALDESC:Events for Káposztásmegyeri Református Gyülekezet
BEGIN:VEVENT
DTSTART;TZID=UTC+0:20230113T180000
DTEND;TZID=UTC+0:20230113T180000
DTSTAMP:20260422T103026
CREATED:20221229T075151Z
LAST-MODIFIED:20221229T075436Z
UID:4323-1673632800-1673632800@refkap.hu
SUMMARY:Keresztyén imahét pénteki alkalma
DESCRIPTION:A keresztyén imahét (2023. január 9-13.) programja alább olvasható. \n\nHétfő\nÁllapotfelmérés – Hagg 1\,1-4\nÚjpest-Belsővárosi Református Egyházközség\, 1041 Bp.\, Szent István tér 24.\nIgét hirdet: Zámbó András \nKedd\nGondoljátok meg\, mi történik veletek! – Hagg 1\,5-11\nBékásmegyeri Református Egyházközség\, 1039 Bp.\, Csobánka tér 8.\nIgét hirdet: Bozsóki Bence \nSzerda\nIsten akarata szerint élni – a kezdet – Hagg 1\,12-15\nSzabad Evangéliumi Gyülekezet\, 1135 Bp.\, Béke út 35./A\nIgét hirdet: Mészáros Kornél \nCsütörtök\nIsten akarata szerint élni – a folytatás – Hagg 2\, 1-14\nÚjpesti Baptista Gyülekezet\, 1043 Bp.\, Kassai utca 26.\nIgét hirdet: Sípos Aba Álmos\nAz alkalmon úrvacsorai közösségben lehetünk együtt! \nPéntek\nAz engedelmes élet áldása – Hagg 2\,15-23\nKáposztásmegyeri Református Egyházközség\, 1048 Bp.\, Bőröndös utca 17.\nIgét hirdet: Szabó László\nAz alkalom után ifitalálkozó!\n \n
URL:https://refkap.hu/event/keresztyen-imahet-penteki-alkalma/
END:VEVENT
END:VCALENDAR