BEGIN:VCALENDAR
VERSION:2.0
PRODID:-//Káposztásmegyeri Református Gyülekezet - ECPv4.6.2//NONSGML v1.0//EN
CALSCALE:GREGORIAN
METHOD:PUBLISH
X-WR-CALNAME:Káposztásmegyeri Református Gyülekezet
X-ORIGINAL-URL:https://refkap.hu
X-WR-CALDESC:Events for Káposztásmegyeri Református Gyülekezet
BEGIN:VEVENT
DTSTART;TZID=UTC+0:20230406T180000
DTEND;TZID=UTC+0:20230406T180000
DTSTAMP:20260423T122451
CREATED:20230328T202719Z
LAST-MODIFIED:20230328T202719Z
UID:4614-1680804000-1680804000@refkap.hu
SUMMARY:Keresztút
DESCRIPTION:
URL:https://refkap.hu/event/keresztut/
END:VEVENT
END:VCALENDAR