BEGIN:VCALENDAR
VERSION:2.0
PRODID:-//Káposztásmegyeri Református Gyülekezet - ECPv4.6.2//NONSGML v1.0//EN
CALSCALE:GREGORIAN
METHOD:PUBLISH
X-WR-CALNAME:Káposztásmegyeri Református Gyülekezet
X-ORIGINAL-URL:https://refkap.hu
X-WR-CALDESC:Events for Káposztásmegyeri Református Gyülekezet
BEGIN:VEVENT
DTSTART;TZID=UTC+0:20250817T100000
DTEND;TZID=UTC+0:20250817T100000
DTSTAMP:20260422T212124
CREATED:20250716T155632Z
LAST-MODIFIED:20250716T155632Z
UID:6386-1755424800-1755424800@refkap.hu
SUMMARY:Istentisztelet
DESCRIPTION:
URL:https://refkap.hu/event/istentisztelet-316/
END:VEVENT
END:VCALENDAR