BEGIN:VCALENDAR
VERSION:2.0
PRODID:-//Káposztásmegyeri Református Gyülekezet - ECPv4.6.2//NONSGML v1.0//EN
CALSCALE:GREGORIAN
METHOD:PUBLISH
X-WR-CALNAME:Káposztásmegyeri Református Gyülekezet
X-ORIGINAL-URL:https://refkap.hu
X-WR-CALDESC:Events for Káposztásmegyeri Református Gyülekezet
BEGIN:VEVENT
DTSTART;TZID=UTC+0:20230702T100000
DTEND;TZID=UTC+0:20230702T100000
DTSTAMP:20260424T153934
CREATED:20230606T212712Z
LAST-MODIFIED:20230606T212712Z
UID:4723-1688292000-1688292000@refkap.hu
SUMMARY:Istentisztelet
DESCRIPTION:
URL:https://refkap.hu/event/istentisztelet-208/
END:VEVENT
END:VCALENDAR