BEGIN:VCALENDAR
VERSION:2.0
PRODID:-//Káposztásmegyeri Református Gyülekezet - ECPv4.6.2//NONSGML v1.0//EN
CALSCALE:GREGORIAN
METHOD:PUBLISH
X-WR-CALNAME:Káposztásmegyeri Református Gyülekezet
X-ORIGINAL-URL:https://refkap.hu
X-WR-CALDESC:Events for Káposztásmegyeri Református Gyülekezet
BEGIN:VEVENT
DTSTART;TZID=UTC+0:20230618T100000
DTEND;TZID=UTC+0:20230618T100000
DTSTAMP:20260424T104411
CREATED:20230606T212620Z
LAST-MODIFIED:20230606T212620Z
UID:4719-1687082400-1687082400@refkap.hu
SUMMARY:Istentisztelet
DESCRIPTION:
URL:https://refkap.hu/event/istentisztelet-206/
END:VEVENT
END:VCALENDAR