BEGIN:VCALENDAR
VERSION:2.0
PRODID:-//Káposztásmegyeri Református Gyülekezet - ECPv4.6.2//NONSGML v1.0//EN
CALSCALE:GREGORIAN
METHOD:PUBLISH
X-WR-CALNAME:Káposztásmegyeri Református Gyülekezet
X-ORIGINAL-URL:https://refkap.hu
X-WR-CALDESC:Events for Káposztásmegyeri Református Gyülekezet
BEGIN:VEVENT
DTSTART;TZID=UTC+1:20221225T100000
DTEND;TZID=UTC+1:20221225T100000
DTSTAMP:20260422T031838
CREATED:20221123T174020Z
LAST-MODIFIED:20221126T185616Z
UID:4270-1671962400-1671962400@refkap.hu
SUMMARY:Istentisztelet
DESCRIPTION:
URL:https://refkap.hu/event/istentisztelet-185/
END:VEVENT
END:VCALENDAR