BEGIN:VCALENDAR
VERSION:2.0
PRODID:-//Káposztásmegyeri Református Gyülekezet - ECPv4.6.2//NONSGML v1.0//EN
CALSCALE:GREGORIAN
METHOD:PUBLISH
X-WR-CALNAME:Káposztásmegyeri Református Gyülekezet
X-ORIGINAL-URL:https://refkap.hu
X-WR-CALDESC:Events for Káposztásmegyeri Református Gyülekezet
BEGIN:VEVENT
DTSTART;TZID=UTC+1:20221218T100000
DTEND;TZID=UTC+1:20221218T100000
DTSTAMP:20260421T235615
CREATED:20221123T173953Z
LAST-MODIFIED:20221126T192515Z
UID:4268-1671357600-1671357600@refkap.hu
SUMMARY:Istentisztelet\, 2-3. osztályosok karácsonya (CsVMG\, Fóti Úti)
DESCRIPTION:
URL:https://refkap.hu/event/istentisztelet-184/
END:VEVENT
END:VCALENDAR