BEGIN:VCALENDAR
VERSION:2.0
PRODID:-//Káposztásmegyeri Református Gyülekezet - ECPv4.6.2//NONSGML v1.0//EN
CALSCALE:GREGORIAN
METHOD:PUBLISH
X-WR-CALNAME:Káposztásmegyeri Református Gyülekezet
X-ORIGINAL-URL:https://refkap.hu
X-WR-CALDESC:Events for Káposztásmegyeri Református Gyülekezet
BEGIN:VEVENT
DTSTART;TZID=UTC+1:20221204T100000
DTEND;TZID=UTC+1:20221204T100000
DTSTAMP:20260421T154216
CREATED:20221123T173851Z
LAST-MODIFIED:20221126T185532Z
UID:4264-1670148000-1670148000@refkap.hu
SUMMARY:Istentisztelet
DESCRIPTION:
URL:https://refkap.hu/event/istentisztelet-182/
END:VEVENT
END:VCALENDAR