BEGIN:VCALENDAR
VERSION:2.0
PRODID:-//Káposztásmegyeri Református Gyülekezet - ECPv4.6.2//NONSGML v1.0//EN
CALSCALE:GREGORIAN
METHOD:PUBLISH
X-WR-CALNAME:Káposztásmegyeri Református Gyülekezet
X-ORIGINAL-URL:https://refkap.hu
X-WR-CALDESC:Events for Káposztásmegyeri Református Gyülekezet
BEGIN:VEVENT
DTSTART;TZID=UTC+0:20230408T180000
DTEND;TZID=UTC+0:20230408T180000
DTSTAMP:20260423T155048
CREATED:20230331T045559Z
LAST-MODIFIED:20230331T045559Z
UID:4646-1680976800-1680976800@refkap.hu
SUMMARY:Imaközösség Kárpátaljáért
DESCRIPTION:
URL:https://refkap.hu/event/imakozosseg-karpataljaert/
END:VEVENT
END:VCALENDAR