BEGIN:VCALENDAR
VERSION:2.0
PRODID:-//Káposztásmegyeri Református Gyülekezet - ECPv4.6.2//NONSGML v1.0//EN
CALSCALE:GREGORIAN
METHOD:PUBLISH
X-WR-CALNAME:Káposztásmegyeri Református Gyülekezet
X-ORIGINAL-URL:https://refkap.hu
X-WR-CALDESC:Events for Káposztásmegyeri Református Gyülekezet
BEGIN:VEVENT
DTSTART;TZID=UTC+1:20221218T170000
DTEND;TZID=UTC+1:20221218T170000
DTSTAMP:20260422T013738
CREATED:20221126T192405Z
LAST-MODIFIED:20221126T192405Z
UID:4283-1671382800-1671382800@refkap.hu
SUMMARY:Ifis karácsony (4. osztálytól)\, gyertyagyújtás
DESCRIPTION:
URL:https://refkap.hu/event/ifis-karacsony-4-osztalytol-gyertyagyujtas/
END:VEVENT
END:VCALENDAR