BEGIN:VCALENDAR
VERSION:2.0
PRODID:-//Káposztásmegyeri Református Gyülekezet - ECPv4.6.2//NONSGML v1.0//EN
CALSCALE:GREGORIAN
METHOD:PUBLISH
X-WR-CALNAME:Káposztásmegyeri Református Gyülekezet
X-ORIGINAL-URL:https://refkap.hu
X-WR-CALDESC:Events for Káposztásmegyeri Református Gyülekezet
BEGIN:VEVENT
DTSTART;TZID=UTC+0:20230406T090000
DTEND;TZID=UTC+0:20230406T090000
DTSTAMP:20260423T104722
CREATED:20230317T204809Z
LAST-MODIFIED:20230323T091854Z
UID:4598-1680771600-1680771600@refkap.hu
SUMMARY:Húsvéti gyereknap
DESCRIPTION:Gyülekezetünkben már hagyománynak számít a nagycsütörtöki gyereknap az alsós gyerekek számára sok játékkal\, énekkel\, páska ebéddel. Idén  9-16 óráig leszünk együtt. Reggel 8-9 óra között lesz ügyelet. \nJelentkezési határidő:  2023. ápr. 2.\nRészvételi díj: 2.000 Ft/fő \nBetöltés… \n
URL:https://refkap.hu/event/husveti-gyereknap/
END:VEVENT
END:VCALENDAR