BEGIN:VCALENDAR
VERSION:2.0
PRODID:-//Káposztásmegyeri Református Gyülekezet - ECPv4.6.2//NONSGML v1.0//EN
CALSCALE:GREGORIAN
METHOD:PUBLISH
X-WR-CALNAME:Káposztásmegyeri Református Gyülekezet
X-ORIGINAL-URL:https://refkap.hu
X-WR-CALDESC:Events for Káposztásmegyeri Református Gyülekezet
BEGIN:VEVENT
DTSTART;TZID=UTC+0:20230611T160000
DTEND;TZID=UTC+0:20230611T160000
DTSTAMP:20260424T091305
CREATED:20230606T212508Z
LAST-MODIFIED:20230606T212508Z
UID:4717-1686499200-1686499200@refkap.hu
SUMMARY:Hittanos évzáró
DESCRIPTION:
URL:https://refkap.hu/event/hittanos-evzaro/
END:VEVENT
END:VCALENDAR