BEGIN:VCALENDAR
VERSION:2.0
PRODID:-//Káposztásmegyeri Református Gyülekezet - ECPv4.6.2//NONSGML v1.0//EN
CALSCALE:GREGORIAN
METHOD:PUBLISH
X-WR-CALNAME:Káposztásmegyeri Református Gyülekezet
X-ORIGINAL-URL:https://refkap.hu
X-WR-CALDESC:Events for Káposztásmegyeri Református Gyülekezet
BEGIN:VEVENT
DTSTART;VALUE=DATE:20230710
DTEND;VALUE=DATE:20230715
DTSTAMP:20260424T203806
CREATED:20230328T203716Z
LAST-MODIFIED:20230328T203716Z
UID:4634-1688947200-1689379199@refkap.hu
SUMMARY:Fecskék ifitábor
DESCRIPTION:Részletek > \n
URL:https://refkap.hu/event/fecskek-ifitabor/
END:VEVENT
END:VCALENDAR