BEGIN:VCALENDAR
VERSION:2.0
PRODID:-//Káposztásmegyeri Református Gyülekezet - ECPv4.6.2//NONSGML v1.0//EN
CALSCALE:GREGORIAN
METHOD:PUBLISH
X-WR-CALNAME:Káposztásmegyeri Református Gyülekezet
X-ORIGINAL-URL:https://refkap.hu
X-WR-CALDESC:Events for Káposztásmegyeri Református Gyülekezet
BEGIN:VEVENT
DTSTART;TZID=UTC+0:20230928T200000
DTEND;TZID=UTC+0:20230928T200000
DTSTAMP:20260422T023705
CREATED:20230902T181128Z
LAST-MODIFIED:20230902T181128Z
UID:4904-1695931200-1695931200@refkap.hu
SUMMARY:Éjszakai anyakör
DESCRIPTION:
URL:https://refkap.hu/event/ejszakai-anyakor/
END:VEVENT
END:VCALENDAR