BEGIN:VCALENDAR
VERSION:2.0
PRODID:-//Káposztásmegyeri Református Gyülekezet - ECPv4.6.2//NONSGML v1.0//EN
CALSCALE:GREGORIAN
METHOD:PUBLISH
X-WR-CALNAME:Káposztásmegyeri Református Gyülekezet
X-ORIGINAL-URL:https://refkap.hu
X-WR-CALDESC:Events for Káposztásmegyeri Református Gyülekezet
BEGIN:VEVENT
DTSTART;TZID=UTC+0:20230916T153000
DTEND;TZID=UTC+0:20230916T153000
DTSTAMP:20260425T012625
CREATED:20230902T181009Z
LAST-MODIFIED:20230902T181009Z
UID:4902-1694878200-1694878200@refkap.hu
SUMMARY:Játssz velünk! – társasjáték est
DESCRIPTION:
URL:https://refkap.hu/event/jatssz-velunk-tarsasjatek-est/
END:VEVENT
END:VCALENDAR